BEGIN:VCALENDAR
VERSION:2.0
PRODID:-//Sabre//Sabre VObject 4.5.8//EN
CALSCALE:GREGORIAN
BEGIN:VTIMEZONE
TZID:Europe/Zurich
X-LIC-LOCATION:Europe/Zurich
TZURL:http://tzurl.org/zoneinfo/Europe/Zurich
BEGIN:DAYLIGHT
TZOFFSETFROM:+0100
TZOFFSETTO:+0200
TZNAME:CEST
DTSTART:19810329T020000
RRULE:FREQ=YEARLY;BYMONTH=3;BYDAY=-1SU
END:DAYLIGHT
BEGIN:STANDARD
TZOFFSETFROM:+0200
TZOFFSETTO:+0100
TZNAME:CET
DTSTART:19961027T030000
RRULE:FREQ=YEARLY;BYMONTH=10;BYDAY=-1SU
END:STANDARD
END:VTIMEZONE
BEGIN:VEVENT
UID:news791@germanistik.philhist.unibas.ch
DTSTAMP;TZID=Europe/Zurich:20260417T085232
DTSTART;TZID=Europe/Zurich:20260420T181500
SUMMARY:"Der Generationenkonflikt als Motor der Literaturgeschichte"
DESCRIPTION:Gastvortrag von Prof. Dr. Susanne Lüdemann (LMU München) im R
 ahmen der Forum Basiliense Ringvorlesung (Prof. Dr. Alexander Honold)
X-ALT-DESC:Gastvortrag von Prof. Dr. Susanne Lüdemann (LMU München) im Ra
 hmen der Forum Basiliense Ringvorlesung (Prof. Dr. Alexander Honold)
DTEND;TZID=Europe/Zurich:20260420T194500
END:VEVENT
END:VCALENDAR
