BEGIN:VCALENDAR
VERSION:2.0
PRODID:-//Sabre//Sabre VObject 4.5.8//EN
CALSCALE:GREGORIAN
BEGIN:VTIMEZONE
TZID:Europe/Zurich
X-LIC-LOCATION:Europe/Zurich
TZURL:http://tzurl.org/zoneinfo/Europe/Zurich
BEGIN:DAYLIGHT
TZOFFSETFROM:+0100
TZOFFSETTO:+0200
TZNAME:CEST
DTSTART:19810329T020000
RRULE:FREQ=YEARLY;BYMONTH=3;BYDAY=-1SU
END:DAYLIGHT
BEGIN:STANDARD
TZOFFSETFROM:+0200
TZOFFSETTO:+0100
TZNAME:CET
DTSTART:19961027T030000
RRULE:FREQ=YEARLY;BYMONTH=10;BYDAY=-1SU
END:STANDARD
END:VTIMEZONE
BEGIN:VEVENT
UID:news713@germanistik.philhist.unibas.ch
DTSTAMP;TZID=Europe/Zurich:20250508T170623
DTSTART;TZID=Europe/Zurich:20250520T101500
SUMMARY:"Zufälligkeiten\, Konnexionen\, Bekanntschaften" Jean Pauls Textwe
 lt am Beispiel des Fixlein-Korpus
DESCRIPTION:Gastvortrag von Dr. Sina Dell' Anno im Rahmen der Jean Paul-Vor
 lesung von Prof. Dr. Ralf Simon statt.
X-ALT-DESC:Gastvortrag von Dr. Sina Dell' Anno im Rahmen der Jean Paul-Vorl
 esung von Prof. Dr. Ralf Simon statt.
DTEND;TZID=Europe/Zurich:20250520T120000
END:VEVENT
END:VCALENDAR
