BEGIN:VCALENDAR
VERSION:2.0
PRODID:-//Sabre//Sabre VObject 4.5.8//EN
CALSCALE:GREGORIAN
BEGIN:VTIMEZONE
TZID:Europe/Zurich
X-LIC-LOCATION:Europe/Zurich
TZURL:http://tzurl.org/zoneinfo/Europe/Zurich
BEGIN:DAYLIGHT
TZOFFSETFROM:+0100
TZOFFSETTO:+0200
TZNAME:CEST
DTSTART:19810329T020000
RRULE:FREQ=YEARLY;BYMONTH=3;BYDAY=-1SU
END:DAYLIGHT
BEGIN:STANDARD
TZOFFSETFROM:+0200
TZOFFSETTO:+0100
TZNAME:CET
DTSTART:19961027T030000
RRULE:FREQ=YEARLY;BYMONTH=10;BYDAY=-1SU
END:STANDARD
END:VTIMEZONE
BEGIN:VEVENT
UID:news706@germanistik.philhist.unibas.ch
DTSTAMP;TZID=Europe/Zurich:20250429T152752
DTSTART;TZID=Europe/Zurich:20250522T190000
SUMMARY:Lesung: Markus Thielemann: Von Norden rollt ein Donner
DESCRIPTION:Der 19-jährige Jannes lebt mit seinen Eltern und seinem Grossv
 ater auf dem Familienbauernhof und treibt nach familiärer Tradition tägl
 ich die Schafherde über die Lüneburger Heideflächen. Doch es herrscht U
 nruhe in der Gegend. Der Wolf ist zurück\, und mit den zunehmenden Schafr
 issen verdichten sich die Konflikte im Dorf. Während neurechte völkische
  Siedler:innen versuchen\, das Thema für ihre Zwecke zu vereinnahmen\, di
 e Situation sich zuspitzt und in Selbstjustiz der Bevölkerung zu eskalier
 en droht\, flüchtet sich Jannes zu seinen Schafen in die Heide. Mit Studi
 erenden des Deutschen Seminars der Universität Basel spricht Markus Thiel
 emann über seinen hochaktuellen Anti-Heimatroman\, der 2024 auf der Short
 list des Deutschen Buchpreises stand.\\r\\nStudierende des Deutschen Semin
 ars haben freien Eintritt.
X-ALT-DESC:<p>Der 19-jährige Jannes lebt mit seinen Eltern und seinem Gros
 svater auf dem Familienbauernhof und treibt nach familiärer Tradition tä
 glich die Schafherde über die Lüneburger Heideflächen. Doch es herrscht
  Unruhe in der Gegend. Der Wolf ist zurück\, und mit den zunehmenden Scha
 frissen verdichten sich die Konflikte im Dorf. Während neurechte völkisc
 he Siedler:innen versuchen\, das Thema für ihre Zwecke zu vereinnahmen\, 
 die Situation sich zuspitzt und in Selbstjustiz der Bevölkerung zu eskali
 eren droht\, flüchtet sich Jannes zu seinen Schafen in die Heide. Mit Stu
 dierenden des Deutschen Seminars der Universität Basel spricht Markus Thi
 elemann über seinen hochaktuellen Anti-Heimatroman\, der 2024 auf der Sho
 rtlist des Deutschen Buchpreises stand.</p>\n<p>Studierende des Deutschen 
 Seminars haben freien Eintritt.</p>
END:VEVENT
END:VCALENDAR
