BEGIN:VCALENDAR
VERSION:2.0
PRODID:-//Sabre//Sabre VObject 4.5.8//EN
CALSCALE:GREGORIAN
BEGIN:VTIMEZONE
TZID:Europe/Zurich
X-LIC-LOCATION:Europe/Zurich
TZURL:http://tzurl.org/zoneinfo/Europe/Zurich
BEGIN:DAYLIGHT
TZOFFSETFROM:+0100
TZOFFSETTO:+0200
TZNAME:CEST
DTSTART:19810329T020000
RRULE:FREQ=YEARLY;BYMONTH=3;BYDAY=-1SU
END:DAYLIGHT
BEGIN:STANDARD
TZOFFSETFROM:+0200
TZOFFSETTO:+0100
TZNAME:CET
DTSTART:19961027T030000
RRULE:FREQ=YEARLY;BYMONTH=10;BYDAY=-1SU
END:STANDARD
END:VTIMEZONE
BEGIN:VEVENT
UID:news781@germanistik.philhist.unibas.ch
DTSTAMP;TZID=Europe/Zurich:20260302T121407
DTSTART;TZID=Europe/Zurich:20260305T121500
SUMMARY:Einführung in UB und Literaturrecherche Studienanfänger*innen Ger
 manistik
DESCRIPTION:Dauer: 90 Minuten\\r\\nTreffpunkt: UB Hauptbibliothek (Schönbe
 instr. 20)\, Vortragssaal (1. OG links)\\r\\nDozentin: Susanne Gubser\, li
 c. phil. (Fachreferentin für Germanistik)\\r\\nBemerkung: Der Besuch der 
 Schulung ist obligatorisch und muss vor Abgabe der ersten Proseminararbeit
  erfolgen. Die Teilnahmebestätigung muss den Proseminararbeiten in deutsc
 her Sprachwissenschaft\, germanistischer Mediävistik und Neuerer deutsche
 r Literaturwissenschaft beigelegt werden. Weitere Infos in den Proseminare
 n.\\r\\nAnmeldung: Obligatorisch (beschränkte Platzzahl) bis am 2. März 
 an susanne.gubser@unibas.ch
X-ALT-DESC:<p><strong>Dauer: </strong>90 Minuten</p>\n<p><strong>Treffpunkt
 : </strong>UB Hauptbibliothek (Schönbeinstr. 20)\, Vortragssaal (1. OG li
 nks)</p>\n<p><strong>Dozentin: </strong>Susanne Gubser\, lic. phil. (Fachr
 eferentin für Germanistik)</p>\n<p><strong>Bemerkung: </strong>Der Besuch
  der Schulung ist <strong>obligatorisch </strong>und muss vor Abgabe der e
 rsten Proseminararbeit erfolgen. Die Teilnahmebestätigung muss den Prosem
 inararbeiten in deutscher Sprachwissenschaft\, germanistischer Mediävisti
 k und Neuerer deutscher Literaturwissenschaft beigelegt werden. Weitere In
 fos in den Proseminaren.</p>\n<p><strong>Anmeldung:</strong> Obligatorisch
  (beschränkte Platzzahl) bis am 2. März an susanne.gubser@unibas.ch</p>
DTEND;TZID=Europe/Zurich:20260305T134500
END:VEVENT
END:VCALENDAR
